BEGIN:VCALENDAR
VERSION:2.0
PRODID:-//French Plein Air Painters © - ECPv6.15.20//NONSGML v1.0//EN
CALSCALE:GREGORIAN
METHOD:PUBLISH
X-WR-CALNAME:French Plein Air Painters ©
X-ORIGINAL-URL:https://frenchpleinairpainters.com
X-WR-CALDESC:Évènements pour French Plein Air Painters ©
REFRESH-INTERVAL;VALUE=DURATION:PT1H
X-Robots-Tag:noindex
X-PUBLISHED-TTL:PT1H
BEGIN:VTIMEZONE
TZID:Europe/Paris
BEGIN:DAYLIGHT
TZOFFSETFROM:+0100
TZOFFSETTO:+0200
TZNAME:CEST
DTSTART:20230326T010000
END:DAYLIGHT
BEGIN:STANDARD
TZOFFSETFROM:+0200
TZOFFSETTO:+0100
TZNAME:CET
DTSTART:20231029T010000
END:STANDARD
BEGIN:DAYLIGHT
TZOFFSETFROM:+0100
TZOFFSETTO:+0200
TZNAME:CEST
DTSTART:20240331T010000
END:DAYLIGHT
BEGIN:STANDARD
TZOFFSETFROM:+0200
TZOFFSETTO:+0100
TZNAME:CET
DTSTART:20241027T010000
END:STANDARD
BEGIN:DAYLIGHT
TZOFFSETFROM:+0100
TZOFFSETTO:+0200
TZNAME:CEST
DTSTART:20250330T010000
END:DAYLIGHT
BEGIN:STANDARD
TZOFFSETFROM:+0200
TZOFFSETTO:+0100
TZNAME:CET
DTSTART:20251026T010000
END:STANDARD
END:VTIMEZONE
BEGIN:VEVENT
DTSTART;VALUE=DATE:20240508
DTEND;VALUE=DATE:20240513
DTSTAMP:20260424T072259
CREATED:20240522T122143Z
LAST-MODIFIED:20240522T221349Z
UID:5940-1715126400-1715558399@frenchpleinairpainters.com
SUMMARY:Plein air au Moulin Jaune chez le célèbre clown Slava\, fondateur du Snowshow
DESCRIPTION:
URL:https://frenchpleinairpainters.com/index.php/event/plein-air-au-moulin-jaune-chez-le-celebre-clown-slava-fondateur-du-snowshow/
ATTACH;FMTTYPE=image/jpeg:https://frenchpleinairpainters.com/wp-content/uploads/2024/05/groupe-moulin-2024-scaled.jpg
END:VEVENT
END:VCALENDAR