BEGIN:VCALENDAR
VERSION:2.0
PRODID:-//French Plein Air Painters © - ECPv6.15.20//NONSGML v1.0//EN
CALSCALE:GREGORIAN
METHOD:PUBLISH
X-ORIGINAL-URL:https://frenchpleinairpainters.com
X-WR-CALDESC:Évènements pour French Plein Air Painters ©
REFRESH-INTERVAL;VALUE=DURATION:PT1H
X-Robots-Tag:noindex
X-PUBLISHED-TTL:PT1H
BEGIN:VTIMEZONE
TZID:Europe/Paris
BEGIN:DAYLIGHT
TZOFFSETFROM:+0100
TZOFFSETTO:+0200
TZNAME:CEST
DTSTART:20250330T010000
END:DAYLIGHT
BEGIN:STANDARD
TZOFFSETFROM:+0200
TZOFFSETTO:+0100
TZNAME:CET
DTSTART:20251026T010000
END:STANDARD
BEGIN:DAYLIGHT
TZOFFSETFROM:+0100
TZOFFSETTO:+0200
TZNAME:CEST
DTSTART:20260329T010000
END:DAYLIGHT
BEGIN:STANDARD
TZOFFSETFROM:+0200
TZOFFSETTO:+0100
TZNAME:CET
DTSTART:20261025T010000
END:STANDARD
BEGIN:DAYLIGHT
TZOFFSETFROM:+0100
TZOFFSETTO:+0200
TZNAME:CEST
DTSTART:20270328T010000
END:DAYLIGHT
BEGIN:STANDARD
TZOFFSETFROM:+0200
TZOFFSETTO:+0100
TZNAME:CET
DTSTART:20271031T010000
END:STANDARD
END:VTIMEZONE
BEGIN:VEVENT
DTSTART;TZID=Europe/Paris:20260711T170000
DTEND;TZID=Europe/Paris:20260718T100000
DTSTAMP:20260423T012713
CREATED:20260414T084648Z
LAST-MODIFIED:20260414T084653Z
UID:6363-1783789200-1784368800@frenchpleinairpainters.com
SUMMARY:Art Camp International à Mèze
DESCRIPTION:Vivez une semaine créative au bord de la Méditerranée en compagnie de Frenchpleinairpainters !\nRejoignez les professeurs de l’École de Dessin Classique et des artistes professionnels spécialistes de la peinture en plein air pour une immersion artistique unique.\n Peinture en plein air face aux eaux transparentes de la lagune de l’Étang de Thau
URL:https://frenchpleinairpainters.com/index.php/event/art-camp-international-a-meze/
LOCATION:Mèze\, rue de la Loge\, Mèze\, France
ATTACH;FMTTYPE=image/jpeg:https://frenchpleinairpainters.com/wp-content/uploads/2026/03/Meze-English2026.jpeg
END:VEVENT
END:VCALENDAR