BEGIN:VCALENDAR
VERSION:2.0
PRODID:-//French Plein Air Painters © - ECPv6.15.20//NONSGML v1.0//EN
CALSCALE:GREGORIAN
METHOD:PUBLISH
X-WR-CALNAME:French Plein Air Painters ©
X-ORIGINAL-URL:https://frenchpleinairpainters.com
X-WR-CALDESC:Évènements pour French Plein Air Painters ©
REFRESH-INTERVAL;VALUE=DURATION:PT1H
X-Robots-Tag:noindex
X-PUBLISHED-TTL:PT1H
BEGIN:VTIMEZONE
TZID:Europe/Paris
BEGIN:DAYLIGHT
TZOFFSETFROM:+0100
TZOFFSETTO:+0200
TZNAME:CEST
DTSTART:20250330T010000
END:DAYLIGHT
BEGIN:STANDARD
TZOFFSETFROM:+0200
TZOFFSETTO:+0100
TZNAME:CET
DTSTART:20251026T010000
END:STANDARD
BEGIN:DAYLIGHT
TZOFFSETFROM:+0100
TZOFFSETTO:+0200
TZNAME:CEST
DTSTART:20260329T010000
END:DAYLIGHT
BEGIN:STANDARD
TZOFFSETFROM:+0200
TZOFFSETTO:+0100
TZNAME:CET
DTSTART:20261025T010000
END:STANDARD
BEGIN:DAYLIGHT
TZOFFSETFROM:+0100
TZOFFSETTO:+0200
TZNAME:CEST
DTSTART:20270328T010000
END:DAYLIGHT
BEGIN:STANDARD
TZOFFSETFROM:+0200
TZOFFSETTO:+0100
TZNAME:CET
DTSTART:20271031T010000
END:STANDARD
END:VTIMEZONE
BEGIN:VEVENT
DTSTART;TZID=Europe/Paris:20260625T100000
DTEND;TZID=Europe/Paris:20260628T170000
DTSTAMP:20260422T235654
CREATED:20260414T084358Z
LAST-MODIFIED:20260414T091631Z
UID:6360-1782381600-1782666000@frenchpleinairpainters.com
SUMMARY:9-Festival International de peinture sur grand format en plein air
DESCRIPTION:Nous allons devoiler un nouveau lieu impressionniste en Région Parisienne!\nVous pourrez le rejoindre en metro parisien ! \nLes mises à jours seront publiésinscription au Festival de peinture grand format
URL:https://frenchpleinairpainters.com/index.php/event/9-festival-international-de-peinture-sur-grand-format-en-plein-air/
LOCATION:Ile Saint-Denis\, France
ATTACH;FMTTYPE=image/png:https://frenchpleinairpainters.com/wp-content/uploads/2026/03/2-annonce-teasing-festival-english.png
END:VEVENT
END:VCALENDAR