BEGIN:VCALENDAR
VERSION:2.0
PRODID:-//French Plein Air Painters © - ECPv6.15.20//NONSGML v1.0//EN
CALSCALE:GREGORIAN
METHOD:PUBLISH
X-ORIGINAL-URL:https://frenchpleinairpainters.com
X-WR-CALDESC:Évènements pour French Plein Air Painters ©
REFRESH-INTERVAL;VALUE=DURATION:PT1H
X-Robots-Tag:noindex
X-PUBLISHED-TTL:PT1H
BEGIN:VTIMEZONE
TZID:Europe/Paris
BEGIN:DAYLIGHT
TZOFFSETFROM:+0100
TZOFFSETTO:+0200
TZNAME:CEST
DTSTART:20230326T010000
END:DAYLIGHT
BEGIN:STANDARD
TZOFFSETFROM:+0200
TZOFFSETTO:+0100
TZNAME:CET
DTSTART:20231029T010000
END:STANDARD
BEGIN:DAYLIGHT
TZOFFSETFROM:+0100
TZOFFSETTO:+0200
TZNAME:CEST
DTSTART:20240331T010000
END:DAYLIGHT
BEGIN:STANDARD
TZOFFSETFROM:+0200
TZOFFSETTO:+0100
TZNAME:CET
DTSTART:20241027T010000
END:STANDARD
BEGIN:DAYLIGHT
TZOFFSETFROM:+0100
TZOFFSETTO:+0200
TZNAME:CEST
DTSTART:20250330T010000
END:DAYLIGHT
BEGIN:STANDARD
TZOFFSETFROM:+0200
TZOFFSETTO:+0100
TZNAME:CET
DTSTART:20251026T010000
END:STANDARD
END:VTIMEZONE
BEGIN:VEVENT
DTSTART;VALUE=DATE:20240914
DTEND;VALUE=DATE:20240916
DTSTAMP:20260423T232322
CREATED:20240525T143228Z
LAST-MODIFIED:20240525T144957Z
UID:6037-1726272000-1726444799@frenchpleinairpainters.com
SUMMARY:VEULES-LES-ROSES EN PLEIN AIR WEEKEND
DESCRIPTION:Organisé par  l’association Vassily Polenov ce week-end  d’art avec les séances de peinture en  plein air et l’exposition des oeuvres réalisées in situe dans ce célèbre village normand vise à célébrer 150 ans de la création par Vassily Polenov d’un tableau emblematique de sa période normande. Les artistes de Frenchpleinairpainters sont invités à prendre part dans ces journées.\nAnna Filimonova\, Créatrice de la plateforme est invitée en tant qu’experte pour la préselection et conseil d’organisation de ce  plein air international. \nUn appel à candidature est lancé par l’association pour la séléction des candidats qui pourront bénéficier de la gratuité d’hebergement.\nCeci dit les artistes qui n’en ont pas besoin peuvent rejoindre l’événement librement qui se tiendra du 14 au 15 septembre. Pour plus d’information  au sujet des modalité d’exposition contactez l’association organisatrice
URL:https://frenchpleinairpainters.com/index.php/event/veules-les-roses-en-plein-air-weekend/
ATTACH;FMTTYPE=image/jpeg:https://frenchpleinairpainters.com/wp-content/uploads/2024/05/Vasily-Polenov-Old-Gates.-Normandy.jpg
END:VEVENT
END:VCALENDAR