BEGIN:VCALENDAR
VERSION:2.0
PRODID:-//French Plein Air Painters © - ECPv6.15.20//NONSGML v1.0//EN
CALSCALE:GREGORIAN
METHOD:PUBLISH
X-WR-CALNAME:French Plein Air Painters ©
X-ORIGINAL-URL:https://frenchpleinairpainters.com
X-WR-CALDESC:Évènements pour French Plein Air Painters ©
REFRESH-INTERVAL;VALUE=DURATION:PT1H
X-Robots-Tag:noindex
X-PUBLISHED-TTL:PT1H
BEGIN:VTIMEZONE
TZID:Europe/Paris
BEGIN:DAYLIGHT
TZOFFSETFROM:+0100
TZOFFSETTO:+0200
TZNAME:CEST
DTSTART:20240331T010000
END:DAYLIGHT
BEGIN:STANDARD
TZOFFSETFROM:+0200
TZOFFSETTO:+0100
TZNAME:CET
DTSTART:20241027T010000
END:STANDARD
BEGIN:DAYLIGHT
TZOFFSETFROM:+0100
TZOFFSETTO:+0200
TZNAME:CEST
DTSTART:20250330T010000
END:DAYLIGHT
BEGIN:STANDARD
TZOFFSETFROM:+0200
TZOFFSETTO:+0100
TZNAME:CET
DTSTART:20251026T010000
END:STANDARD
BEGIN:DAYLIGHT
TZOFFSETFROM:+0100
TZOFFSETTO:+0200
TZNAME:CEST
DTSTART:20260329T010000
END:DAYLIGHT
BEGIN:STANDARD
TZOFFSETFROM:+0200
TZOFFSETTO:+0100
TZNAME:CET
DTSTART:20261025T010000
END:STANDARD
END:VTIMEZONE
BEGIN:VEVENT
DTSTART;TZID=Europe/Paris:20250629T100000
DTEND;TZID=Europe/Paris:20250629T170000
DTSTAMP:20260423T084346
CREATED:20250603T171726Z
LAST-MODIFIED:20250622T113604Z
UID:6226-1751191200-1751216400@frenchpleinairpainters.com
SUMMARY:Concours de peinture en plein air sur l'hippodrome de Saint-Cloud
DESCRIPTION:
URL:https://frenchpleinairpainters.com/index.php/event/6226/
LOCATION:hippodrome de Saint-Cloud\, 1 rue de Cam Canadien\, Saint-Cloud\, 92210\, France
END:VEVENT
END:VCALENDAR